BEGIN:VCALENDAR
VERSION:2.0
PRODID:-//hacksw/handcal//NONSGML v1.0//EN
BEGIN:VEVENT
DTSTAMP:20261102T000000Z
DTSTART:20261102T000000Z
DTEND:19700101T000000Z

SUMMARY:Youmacon 2026
DESCRIPTION:YoumaconShow Your Badge & Get a 10% Discount!
END:VEVENT
END:VCALENDAR