BEGIN:VCALENDAR
VERSION:2.0
PRODID:-//hacksw/handcal//NONSGML v1.0//EN
BEGIN:VEVENT
DTSTAMP:20250410T230000Z
DTSTART:20250410T230000Z
DTEND:19700101T000000Z

SUMMARY: WCX™ 2025 World Congress Experience
DESCRIPTION:WCX 2025 - April 8-10
END:VEVENT
END:VCALENDAR