BEGIN:VCALENDAR
VERSION:2.0
PRODID:-//hacksw/handcal//NONSGML v1.0//EN
BEGIN:VEVENT
DTSTAMP:20240909T190000Z
DTSTART:20240909T190000Z
DTEND:20240909T210000Z

SUMMARY:Vehicle Displays & Interfaces Symposium
DESCRIPTION:For more information visit the web https://www.vehicledisplay.org/
END:VEVENT
END:VCALENDAR