BEGIN:VCALENDAR
VERSION:2.0
PRODID:-//hacksw/handcal//NONSGML v1.0//EN
BEGIN:VEVENT
DTSTAMP:20261004T230000Z
DTSTART:20261004T230000Z
DTEND:19700101T000000Z

SUMMARY:Titans of Dance
DESCRIPTION:Titans of DanceShow Your Badge & Get a 10% Discount! 
END:VEVENT
END:VCALENDAR