BEGIN:VCALENDAR
VERSION:2.0
PRODID:-//hacksw/handcal//NONSGML v1.0//EN
BEGIN:VEVENT
DTSTAMP:20240310T140000Z
DTSTART:20240310T140000Z
DTEND:20240310T220000Z

SUMMARY:The Ultimate RV Show Detroit
DESCRIPTION:For more information visit the web  
END:VEVENT
END:VCALENDAR