BEGIN:VCALENDAR
VERSION:2.0
PRODID:-//hacksw/handcal//NONSGML v1.0//EN
BEGIN:VEVENT
DTSTAMP:20240309T150000Z
DTSTART:20240309T150000Z
DTEND:20240310T010000Z

SUMMARY:The Ultimate RV Show Detroit
DESCRIPTION:For more information visit the web  
END:VEVENT
END:VCALENDAR