BEGIN:VCALENDAR
VERSION:2.0
PRODID:-//hacksw/handcal//NONSGML v1.0//EN
BEGIN:VEVENT
DTSTAMP:20240307T180000Z
DTSTART:20240307T180000Z
DTEND:20240308T010000Z

SUMMARY:The Ultimate RV Show Detroit
DESCRIPTION:For more information visit the web  
END:VEVENT
END:VCALENDAR