BEGIN:VCALENDAR
VERSION:2.0
PRODID:-//hacksw/handcal//NONSGML v1.0//EN
BEGIN:VEVENT
DTSTAMP:20211126T000000Z
DTSTART:20211126T000000Z
DTEND:19700101T000000Z

SUMMARY:Strategic Staffing Solutions Turkey Trot Expo
DESCRIPTION:For more information call 313-923-7400 or visit the Turkey Trot website.
END:VEVENT
END:VCALENDAR