BEGIN:VCALENDAR
VERSION:2.0
PRODID:-//hacksw/handcal//NONSGML v1.0//EN
BEGIN:VEVENT
DTSTAMP:20250614T160000Z
DTSTART:20250614T160000Z
DTEND:20250614T230000Z

SUMMARY:Sneaker Con Detroit
DESCRIPTION:Sneaker Con Detroit - June 14th, 2025
END:VEVENT
END:VCALENDAR