BEGIN:VCALENDAR
VERSION:2.0
PRODID:-//hacksw/handcal//NONSGML v1.0//EN
BEGIN:VEVENT
DTSTAMP:20261028T230000Z
DTSTART:20261028T230000Z
DTEND:19700101T000000Z

SUMMARY:Reuters Events: Automotive 2026 
DESCRIPTION:Reuters Events: Automotive 2026 Show Your Badge & Get a 10% Discount!
END:VEVENT
END:VCALENDAR