BEGIN:VCALENDAR
VERSION:2.0
PRODID:-//hacksw/handcal//NONSGML v1.0//EN
BEGIN:VEVENT
DTSTAMP:20150608T150000Z
DTSTART:20150608T150000Z
DTEND:20150608T180000Z

SUMMARY:Renaissance High School Graduation
DESCRIPTION:For more information call 313-416-4600
END:VEVENT
END:VCALENDAR