BEGIN:VCALENDAR
VERSION:2.0
PRODID:-//hacksw/handcal//NONSGML v1.0//EN
BEGIN:VEVENT
DTSTAMP:20261021T230000Z
DTSTART:20261021T230000Z
DTEND:19700101T000000Z

SUMMARY:Project Management Institute (PMI) Annual Global Summit and Leadership Institute
DESCRIPTION:Project Management Institute (PMI) Annual Global Summit and Leadership InstituteShow Your Badge & Get a 10% Discount!
END:VEVENT
END:VCALENDAR