BEGIN:VCALENDAR
VERSION:2.0
PRODID:-//hacksw/handcal//NONSGML v1.0//EN
BEGIN:VEVENT
DTSTAMP:20260712T230000Z
DTSTART:20260712T230000Z
DTEND:19700101T000000Z

SUMMARY:National Veterans Wheelchair Games
DESCRIPTION:Wheel Chair Games Show Your Badge & Get a 10% Discount!
END:VEVENT
END:VCALENDAR