BEGIN:VCALENDAR
VERSION:2.0
PRODID:-//hacksw/handcal//NONSGML v1.0//EN
BEGIN:VEVENT
DTSTAMP:20230808T230000Z
DTSTART:20230808T230000Z
DTEND:19700101T000000Z

SUMMARY:National Brownfields Training Conference
DESCRIPTION:For more information email  esparks@icma.org or visit the web brownfields2023.org
END:VEVENT
END:VCALENDAR