BEGIN:VCALENDAR
VERSION:2.0
PRODID:-//hacksw/handcal//NONSGML v1.0//EN
BEGIN:VEVENT
DTSTAMP:20261007T230000Z
DTSTART:20261007T230000Z
DTEND:19700101T000000Z

SUMMARY:National Association of Home Builders 2026 Fall Leadership Meeting
DESCRIPTION:National Association of Home Builders 2026 Fall Leadership MeetingShow Your Badge & Get a 10% Discount!
END:VEVENT
END:VCALENDAR