BEGIN:VCALENDAR
VERSION:2.0
PRODID:-//hacksw/handcal//NONSGML v1.0//EN
BEGIN:VEVENT
DTSTAMP:20240223T120000Z
DTSTART:20240223T120000Z
DTEND:20240223T220000Z

SUMMARY:Nation of Islam-Saviours' Day
DESCRIPTION:For more information visit the web  www.noi.org/sd2024
END:VEVENT
END:VCALENDAR