BEGIN:VCALENDAR
VERSION:2.0
PRODID:-//hacksw/handcal//NONSGML v1.0//EN
BEGIN:VEVENT
DTSTAMP:20260426T210000Z
DTSTART:20260426T210000Z
DTEND:20260426T230000Z

SUMMARY:NAACP Fight for Freedom Fund Dinner
DESCRIPTION:NAACP Fight for Freedom Fund DinnerShow Your Badge & Get a 10% Discount!
END:VEVENT
END:VCALENDAR