BEGIN:VCALENDAR
VERSION:2.0
PRODID:-//hacksw/handcal//NONSGML v1.0//EN
BEGIN:VEVENT
DTSTAMP:20220730T160000Z
DTSTART:20220730T160000Z
DTEND:20220730T220000Z

SUMMARY:Michigan Sneaker XChange
DESCRIPTION:for more information visit the web www.michigansneakerxchange.com
END:VEVENT
END:VCALENDAR