BEGIN:VCALENDAR
VERSION:2.0
PRODID:-//hacksw/handcal//NONSGML v1.0//EN
BEGIN:VEVENT
DTSTAMP:20180819T140000Z
DTSTART:20180819T140000Z
DTEND:20180819T210000Z

SUMMARY:Michigan Comic Con
DESCRIPTION:For more information visit the web www.michigancomiccon.com
END:VEVENT
END:VCALENDAR