BEGIN:VCALENDAR
VERSION:2.0
PRODID:-//hacksw/handcal//NONSGML v1.0//EN
BEGIN:VEVENT
DTSTAMP:20251215T000000Z
DTSTART:20251215T000000Z
DTEND:19700101T000000Z

SUMMARY:MEGA Magic Classic
DESCRIPTION:MEGA Magic ClassicShow Your Badge & Get a 10% Discount!
END:VEVENT
END:VCALENDAR