BEGIN:VCALENDAR
VERSION:2.0
PRODID:-//hacksw/handcal//NONSGML v1.0//EN
BEGIN:VEVENT
DTSTAMP:20221028T230000Z
DTSTART:20221028T230000Z
DTEND:19700101T000000Z

SUMMARY:KubeCon & CloudNativeCon North America 2022
DESCRIPTION:For more information email events@cncf.ioor visit the web https://events.linuxfoundation.org/kubecon-cloudnativecon-north-america-2022
END:VEVENT
END:VCALENDAR