BEGIN:VCALENDAR
VERSION:2.0
PRODID:-//hacksw/handcal//NONSGML v1.0//EN
BEGIN:VEVENT
DTSTAMP:20260611T230000Z
DTSTART:20260611T230000Z
DTEND:19700101T000000Z

SUMMARY:ITS (Intelligent Transportation Society) of America Conference and Expo
DESCRIPTION:ITS (Intelligent Transportation Society) of America Conference and ExpoShow Your Badge & Get a 10% Discount!
END:VEVENT
END:VCALENDAR