BEGIN:VCALENDAR
VERSION:2.0
PRODID:-//hacksw/handcal//NONSGML v1.0//EN
BEGIN:VEVENT
DTSTAMP:20260907T230000Z
DTSTART:20260907T230000Z
DTEND:19700101T000000Z

SUMMARY:ISNA Annual Convention
DESCRIPTION:ISNA annual conventionShow Your Badge & Get a 10% Discount!
END:VEVENT
END:VCALENDAR