BEGIN:VCALENDAR
VERSION:2.0
PRODID:-//hacksw/handcal//NONSGML v1.0//EN
BEGIN:VEVENT
DTSTAMP:20230621T230000Z
DTSTART:20230621T230000Z
DTEND:19700101T000000Z

SUMMARY:IEEE ITEC (Transportation Electrification Conference and Expo)
DESCRIPTION:for more information call 732.562.3878 or visit the web conferences.ieee.org/conferences_events
END:VEVENT
END:VCALENDAR