BEGIN:VCALENDAR
VERSION:2.0
PRODID:-//hacksw/handcal//NONSGML v1.0//EN
BEGIN:VEVENT
DTSTAMP:20260611T123000Z
DTSTART:20260611T123000Z
DTEND:20260611T193000Z

SUMMARY:AutoSens USA & InCabin USA 2026
DESCRIPTION:AutoSens and InCabin will return to Huntington Place, Detroit to bring experts in the ADAS and AV fields together to experience a hands-on exhibition, and a highly technical conference agenda. Across the exhibition floor, you will meet the world’s leading technology providers, start-ups with the latest developments – and every company in between. In this collaborative environment like no other, you can get hands-on with cutting-edge demos, vehicle demos and buck demos, whilst accelerating your knowledge through engaging conference sessions. Plus, engage in an engineering culture of openness and collaboration through informative roundtable discussions, coffee breaks, networking lunch breaks, facilitated networking sessions, private meeting spaces and more. This is your chance to network with a high calibre technical audience where you will be an ‘expert among experts’. AutoSens USA & InCabin USA 2026Show Your Badge & Get a 10% Discount! 
END:VEVENT
END:VCALENDAR