BEGIN:VCALENDAR
VERSION:2.0
PRODID:-//hacksw/handcal//NONSGML v1.0//EN
BEGIN:VEVENT
DTSTAMP:20220717T100000Z
DTSTART:20220717T100000Z
DTEND:20220717T140000Z

SUMMARY:Herbalife Nutrition North America Extravaganza
DESCRIPTION:For more information visit the web https://hnx.myherbalife.com/ext-2022-en
END:VEVENT
END:VCALENDAR