BEGIN:VCALENDAR
VERSION:2.0
PRODID:-//hacksw/handcal//NONSGML v1.0//EN
BEGIN:VEVENT
DTSTAMP:20220715T120000Z
DTSTART:20220715T120000Z
DTEND:20220715T220000Z

SUMMARY:Herbalife Nutrition North America Extravaganza
DESCRIPTION:For more information visit the web https://hnx.myherbalife.com/ext-2022-en
END:VEVENT
END:VCALENDAR