BEGIN:VCALENDAR
VERSION:2.0
PRODID:-//hacksw/handcal//NONSGML v1.0//EN
BEGIN:VEVENT
DTSTAMP:20260619T230000Z
DTSTART:20260619T230000Z
DTEND:19700101T000000Z

SUMMARY:El Olam 2 Day Dance
DESCRIPTION:El Olam 2 Day DanceShow Your Badge & Get a 10% Discount!
END:VEVENT
END:VCALENDAR