BEGIN:VCALENDAR
VERSION:2.0
PRODID:-//hacksw/handcal//NONSGML v1.0//EN
BEGIN:VEVENT
DTSTAMP:20250208T160000Z
DTSTART:20250208T160000Z
DTEND:20250209T010000Z

SUMMARY:Detroit Boat Show
DESCRIPTION:https://boatmichigan.org/detroit-boat-show/ 
END:VEVENT
END:VCALENDAR