BEGIN:VCALENDAR
VERSION:2.0
PRODID:-//hacksw/handcal//NONSGML v1.0//EN
BEGIN:VEVENT
DTSTAMP:20251115T150000Z
DTSTART:20251115T150000Z
DTEND:20251116T030000Z

SUMMARY:Creator Con 2025
DESCRIPTION:CeatorCon 2025Show Your Badge & Get a 10% Discount!
END:VEVENT
END:VCALENDAR