BEGIN:VCALENDAR
VERSION:2.0
PRODID:-//hacksw/handcal//NONSGML v1.0//EN
BEGIN:VEVENT
DTSTAMP:20260606T130000Z
DTSTART:20260606T130000Z
DTEND:20260606T170000Z

SUMMARY:Celebrating National Homeownership Month Homebuyer Fair
DESCRIPTION:Celebrating National Homeownership Month Homebuyer FairShow Your Badge & Get a 10% Discount!
END:VEVENT
END:VCALENDAR