BEGIN:VCALENDAR
VERSION:2.0
PRODID:-//hacksw/handcal//NONSGML v1.0//EN
BEGIN:VEVENT
DTSTAMP:20260503T230000Z
DTSTART:20260503T230000Z
DTEND:19700101T000000Z

SUMMARY:Can Am Classic 2026 Capitol Sports Volleyball
DESCRIPTION:Capitol Sports Volleyball - Can-Am Classic 2026Show Your Badge & Get a 10% Discount!
END:VEVENT
END:VCALENDAR