BEGIN:VCALENDAR
VERSION:2.0
PRODID:-//hacksw/handcal//NONSGML v1.0//EN
BEGIN:VEVENT
DTSTAMP:20250309T140000Z
DTSTART:20250309T140000Z
DTEND:20250309T200000Z

SUMMARY:Camping World Ultimate RV Show 2025
DESCRIPTION:Ultimate RV Show Exhibitor - Detroit-Exhibitor Page | Camping World
END:VEVENT
END:VCALENDAR