BEGIN:VCALENDAR
VERSION:2.0
PRODID:-//hacksw/handcal//NONSGML v1.0//EN
BEGIN:VEVENT
DTSTAMP:20250307T150000Z
DTSTART:20250307T150000Z
DTEND:20250308T010000Z

SUMMARY:Camping World Ultimate RV Show 2025
DESCRIPTION:Ultimate RV Show Exhibitor - Detroit-Exhibitor Page | Camping World
END:VEVENT
END:VCALENDAR