BEGIN:VCALENDAR
VERSION:2.0
PRODID:-//hacksw/handcal//NONSGML v1.0//EN
BEGIN:VEVENT
DTSTAMP:20210801T230000Z
DTSTART:20210801T230000Z
DTEND:19700101T000000Z

SUMMARY:Beyond Van Gogh: An Immersive Experience
DESCRIPTION:For more information visit the web www.vangoghdetroit.com or email hello@vangoghdetroit.comThis immersive experience features more than 300 of Vincent Van Gogh’s iconic artworks and takes the art lover into a three-dimensional world that exhilarates the senses. Click HERE for information on ADA compliant facility access.
END:VEVENT
END:VCALENDAR