BEGIN:VCALENDAR
VERSION:2.0
PRODID:-//hacksw/handcal//NONSGML v1.0//EN
BEGIN:VEVENT
DTSTAMP:20260427T230000Z
DTSTART:20260427T230000Z
DTEND:19700101T000000Z

SUMMARY:American Planning Association - National Planning Conference
DESCRIPTION:Future & Previous Conferences
END:VEVENT
END:VCALENDAR