BEGIN:VCALENDAR
VERSION:2.0
PRODID:-//hacksw/handcal//NONSGML v1.0//EN
BEGIN:VEVENT
DTSTAMP:20250629T210000Z
DTSTART:20250629T210000Z
DTEND:20250630T020000Z

SUMMARY:68th Annual NAACP Fight for Freedom Fund Dinner 
DESCRIPTION:68th Annual Fight For Freedom Fund Dinner — NAACP Detroit Branch
END:VEVENT
END:VCALENDAR