BEGIN:VCALENDAR
VERSION:2.0
PRODID:-//hacksw/handcal//NONSGML v1.0//EN
BEGIN:VEVENT
DTSTAMP:20230119T200000Z
DTSTART:20230119T200000Z
DTEND:20230120T020000Z

SUMMARY:65th Annual Detroit Boat Show
DESCRIPTION:For more information call 734-261-0123 or visit the web detroitboatshow.net
END:VEVENT
END:VCALENDAR