BEGIN:VCALENDAR
VERSION:2.0
PRODID:-//hacksw/handcal//NONSGML v1.0//EN
BEGIN:VEVENT
DTSTAMP:20230927T230000Z
DTSTART:20230927T230000Z
DTEND:19700101T000000Z

SUMMARY:30th Vehicle Displays & Interfaces Symposium and Exhibition
DESCRIPTION:For more information email info@pcm411.com or visit the web sid.org/Chapters/Americas/Metro-Detroit
END:VEVENT
END:VCALENDAR