BEGIN:VCALENDAR
VERSION:2.0
PRODID:-//hacksw/handcal//NONSGML v1.0//EN
BEGIN:VEVENT
DTSTAMP:20260312T230000Z
DTSTART:20260312T230000Z
DTEND:19700101T000000Z

SUMMARY:2026 Nonprofit Technology Conference (26NTC)
DESCRIPTION:Gather | NTEN
END:VEVENT
END:VCALENDAR