BEGIN:VCALENDAR
VERSION:2.0
PRODID:-//hacksw/handcal//NONSGML v1.0//EN
BEGIN:VEVENT
DTSTAMP:20260717T230000Z
DTSTART:20260717T230000Z
DTEND:19700101T000000Z

SUMMARY: 2026 Int'l Symposium on Antennas and Propagation
DESCRIPTION:2026 Int&#39;l Symposium on Antennas and PropagationShow Your Badge & Get a 10% Discount!
END:VEVENT
END:VCALENDAR