BEGIN:VCALENDAR
VERSION:2.0
PRODID:-//hacksw/handcal//NONSGML v1.0//EN
BEGIN:VEVENT
DTSTAMP:20260729T230000Z
DTSTART:20260729T230000Z
DTEND:19700101T000000Z

SUMMARY:2026 AES 6th International Automotive Audio Conference
DESCRIPTION:2026 AES 6th International Automotive Audio ConferenceShow Your Badge & Get a 10% Discount!
END:VEVENT
END:VCALENDAR